BEGIN:VCALENDAR
VERSION:2.0
PRODID:-//Squarespace Inc/Squarespace 6//v6//EN
BEGIN:VEVENT
UID:552d821be4b0ea5ecd741f9e@squarespace.com
DTSTAMP:20150414T211021Z
DTSTART:20150414T213000Z
DTEND:20150414T223000Z
SUMMARY:Prodigy - Fat of the Land
END:VEVENT
END:VCALENDAR
