BEGIN:VCALENDAR
VERSION:2.0
PRODID:-//Squarespace Inc/Squarespace 6//v6//EN
BEGIN:VEVENT
UID:552d81d9e4b0b7b50bf3d999@squarespace.com
DTSTAMP:20150414T210936Z
DTSTART:20150413T213000Z
DTEND:20150413T223000Z
SUMMARY:X - Los Angeles
END:VEVENT
END:VCALENDAR
